BEGIN:VCALENDAR
VERSION:2.0
PRODID:-//Waldorf aan de Werf - ECPv6.15.20//NONSGML v1.0//EN
CALSCALE:GREGORIAN
METHOD:PUBLISH
X-WR-CALNAME:Waldorf aan de Werf
X-ORIGINAL-URL:https://wadw.school
X-WR-CALDESC:Evenementen voor Waldorf aan de Werf
REFRESH-INTERVAL;VALUE=DURATION:PT1H
X-Robots-Tag:noindex
X-PUBLISHED-TTL:PT1H
BEGIN:VTIMEZONE
TZID:Europe/Amsterdam
BEGIN:DAYLIGHT
TZOFFSETFROM:+0100
TZOFFSETTO:+0200
TZNAME:CEST
DTSTART:20220327T010000
END:DAYLIGHT
BEGIN:STANDARD
TZOFFSETFROM:+0200
TZOFFSETTO:+0100
TZNAME:CET
DTSTART:20221030T010000
END:STANDARD
BEGIN:DAYLIGHT
TZOFFSETFROM:+0100
TZOFFSETTO:+0200
TZNAME:CEST
DTSTART:20230326T010000
END:DAYLIGHT
BEGIN:STANDARD
TZOFFSETFROM:+0200
TZOFFSETTO:+0100
TZNAME:CET
DTSTART:20231029T010000
END:STANDARD
BEGIN:DAYLIGHT
TZOFFSETFROM:+0100
TZOFFSETTO:+0200
TZNAME:CEST
DTSTART:20240331T010000
END:DAYLIGHT
BEGIN:STANDARD
TZOFFSETFROM:+0200
TZOFFSETTO:+0100
TZNAME:CET
DTSTART:20241027T010000
END:STANDARD
END:VTIMEZONE
BEGIN:VEVENT
DTSTART;TZID=Europe/Amsterdam:20230615T084500
DTEND;TZID=Europe/Amsterdam:20230615T101500
DTSTAMP:20260419T165836
CREATED:20230412T181449Z
LAST-MODIFIED:20230613T112733Z
UID:3575-1686818700-1686824100@wadw.school
SUMMARY:Open euritmie les - Kleuterklassen
DESCRIPTION:Alle ouders zijn welkom om in de klas te komen kijken tijdens de euritmie les: \nKlas a: 8:45 tot 9:15 \nKlas c: 9:15 tot 9:45 \nKlas b: 9:45 tot 10:15
URL:https://wadw.school/event/open-euritmie-les-kleuterklassen/
END:VEVENT
END:VCALENDAR