BEGIN:VCALENDAR
VERSION:2.0
PRODID:-//Waldorf aan de Werf - ECPv6.15.20//NONSGML v1.0//EN
CALSCALE:GREGORIAN
METHOD:PUBLISH
X-WR-CALNAME:Waldorf aan de Werf
X-ORIGINAL-URL:https://wadw.school
X-WR-CALDESC:Evenementen voor Waldorf aan de Werf
REFRESH-INTERVAL;VALUE=DURATION:PT1H
X-Robots-Tag:noindex
X-PUBLISHED-TTL:PT1H
BEGIN:VTIMEZONE
TZID:Europe/Amsterdam
BEGIN:DAYLIGHT
TZOFFSETFROM:+0100
TZOFFSETTO:+0200
TZNAME:CEST
DTSTART:20220327T010000
END:DAYLIGHT
BEGIN:STANDARD
TZOFFSETFROM:+0200
TZOFFSETTO:+0100
TZNAME:CET
DTSTART:20221030T010000
END:STANDARD
BEGIN:DAYLIGHT
TZOFFSETFROM:+0100
TZOFFSETTO:+0200
TZNAME:CEST
DTSTART:20230326T010000
END:DAYLIGHT
BEGIN:STANDARD
TZOFFSETFROM:+0200
TZOFFSETTO:+0100
TZNAME:CET
DTSTART:20231029T010000
END:STANDARD
BEGIN:DAYLIGHT
TZOFFSETFROM:+0100
TZOFFSETTO:+0200
TZNAME:CEST
DTSTART:20240331T010000
END:DAYLIGHT
BEGIN:STANDARD
TZOFFSETFROM:+0200
TZOFFSETTO:+0100
TZNAME:CET
DTSTART:20241027T010000
END:STANDARD
END:VTIMEZONE
BEGIN:VEVENT
DTSTART;TZID=Europe/Amsterdam:20230422T000000
DTEND;TZID=Europe/Amsterdam:20230507T235959
DTSTAMP:20260419T135240
CREATED:20221103T122232Z
LAST-MODIFIED:20221205T190747Z
UID:3319-1682121600-1683503999@wadw.school
SUMMARY:Meivakantie
DESCRIPTION:
URL:https://wadw.school/event/meivakantie/
CATEGORIES:Vakantie
END:VEVENT
BEGIN:VEVENT
DTSTART;TZID=Europe/Amsterdam:20230517T163000
DTEND;TZID=Europe/Amsterdam:20230517T180000
DTSTAMP:20260419T135240
CREATED:20230412T175727Z
LAST-MODIFIED:20230414T142755Z
UID:3568-1684341000-1684346400@wadw.school
SUMMARY:MR vergadering
DESCRIPTION:Bijeenkomst van de medezeggenschapsraad – Niet openbaar.
URL:https://wadw.school/event/mr-vergadering-2/
END:VEVENT
BEGIN:VEVENT
DTSTART;TZID=Europe/Amsterdam:20230518T000000
DTEND;TZID=Europe/Amsterdam:20230518T235959
DTSTAMP:20260419T135240
CREATED:20221103T122338Z
LAST-MODIFIED:20221205T190805Z
UID:3321-1684368000-1684454399@wadw.school
SUMMARY:Hemelvaart
DESCRIPTION:
URL:https://wadw.school/event/hemelvaart/
CATEGORIES:Vakantie
END:VEVENT
BEGIN:VEVENT
DTSTART;TZID=Europe/Amsterdam:20230519T000000
DTEND;TZID=Europe/Amsterdam:20230519T235959
DTSTAMP:20260419T135240
CREATED:20230412T080710Z
LAST-MODIFIED:20230412T080710Z
UID:3564-1684454400-1684540799@wadw.school
SUMMARY:Plannings dag\, kinderen vrij
DESCRIPTION:
URL:https://wadw.school/event/plannings-dag-kinderen-vrij/
CATEGORIES:Studiedag
END:VEVENT
BEGIN:VEVENT
DTSTART;TZID=Europe/Amsterdam:20230529T000000
DTEND;TZID=Europe/Amsterdam:20230529T235959
DTSTAMP:20260419T135240
CREATED:20230412T180527Z
LAST-MODIFIED:20230412T180527Z
UID:3573-1685318400-1685404799@wadw.school
SUMMARY:Tweede pinksterdag\, kinderen vrij
DESCRIPTION:
URL:https://wadw.school/event/tweede-pinksterdag-kinderen-vrij/
END:VEVENT
BEGIN:VEVENT
DTSTART;TZID=Europe/Amsterdam:20230530T090000
DTEND;TZID=Europe/Amsterdam:20230530T100000
DTSTAMP:20260419T135240
CREATED:20230522T104426Z
LAST-MODIFIED:20230522T104452Z
UID:3606-1685437200-1685440800@wadw.school
SUMMARY:Informatieochtend
DESCRIPTION:
URL:https://wadw.school/event/3606/
END:VEVENT
END:VCALENDAR