BEGIN:VCALENDAR
VERSION:2.0
PRODID:-//Waldorf aan de Werf - ECPv6.15.20//NONSGML v1.0//EN
CALSCALE:GREGORIAN
METHOD:PUBLISH
X-ORIGINAL-URL:https://wadw.school
X-WR-CALDESC:Evenementen voor Waldorf aan de Werf
REFRESH-INTERVAL;VALUE=DURATION:PT1H
X-Robots-Tag:noindex
X-PUBLISHED-TTL:PT1H
BEGIN:VTIMEZONE
TZID:Europe/Amsterdam
BEGIN:DAYLIGHT
TZOFFSETFROM:+0100
TZOFFSETTO:+0200
TZNAME:CEST
DTSTART:20220327T010000
END:DAYLIGHT
BEGIN:STANDARD
TZOFFSETFROM:+0200
TZOFFSETTO:+0100
TZNAME:CET
DTSTART:20221030T010000
END:STANDARD
BEGIN:DAYLIGHT
TZOFFSETFROM:+0100
TZOFFSETTO:+0200
TZNAME:CEST
DTSTART:20230326T010000
END:DAYLIGHT
BEGIN:STANDARD
TZOFFSETFROM:+0200
TZOFFSETTO:+0100
TZNAME:CET
DTSTART:20231029T010000
END:STANDARD
BEGIN:DAYLIGHT
TZOFFSETFROM:+0100
TZOFFSETTO:+0200
TZNAME:CEST
DTSTART:20240331T010000
END:DAYLIGHT
BEGIN:STANDARD
TZOFFSETFROM:+0200
TZOFFSETTO:+0100
TZNAME:CET
DTSTART:20241027T010000
END:STANDARD
END:VTIMEZONE
BEGIN:VEVENT
DTSTART;TZID=Europe/Amsterdam:20230606T000000
DTEND;TZID=Europe/Amsterdam:20230606T235959
DTSTAMP:20260419T153303
CREATED:20230516T172639Z
LAST-MODIFIED:20230516T172639Z
UID:3594-1686009600-1686095999@wadw.school
SUMMARY:Schoolfotograaf kleuters
DESCRIPTION:Op 6 en 7 juni komt Frouke\, de schoolfotograaf weer langs.\nOp 6 juni worden de kleuters gefotografeerd en op 7 juni de klassen 1\,2 en 3.\nJe email adres word gedeeld met de fotograaf. Zij neemt contact op voor bestellingen en betaling voor de foto’s.
URL:https://wadw.school/event/schoolfotograaf-kleuters/
LOCATION:Waldorf aan de Werf\, J.H. Hisgenpad 394\, Amsterdam
END:VEVENT
BEGIN:VEVENT
DTSTART;TZID=Europe/Amsterdam:20230607T000000
DTEND;TZID=Europe/Amsterdam:20230607T235959
DTSTAMP:20260419T153303
CREATED:20230516T172712Z
LAST-MODIFIED:20230516T172712Z
UID:3596-1686096000-1686182399@wadw.school
SUMMARY:Schoolfotograaf klassen 1\, 2 en 3
DESCRIPTION:Op 6 en 7 juni komt Frouke\, de schoolfotograaf weer langs.\nOp 6 juni worden de kleuters gefotografeerd en op 7 juni de klassen 1\, 2 en 3.\nJe email adres word gedeeld met de fotograaf. Zij neemt contact op voor bestellingen en betaling voor de foto’s.
URL:https://wadw.school/event/schoolfotograaf-klassen-1-2-en-3/
END:VEVENT
BEGIN:VEVENT
DTSTART;TZID=Europe/Amsterdam:20230613T173000
DTEND;TZID=Europe/Amsterdam:20230613T190000
DTSTAMP:20260419T153303
CREATED:20230412T175551Z
LAST-MODIFIED:20230412T175803Z
UID:3566-1686677400-1686682800@wadw.school
SUMMARY:MR vergadering
DESCRIPTION:Bijeenkomst van de medezeggenschapsraad – Niet openbaar.
URL:https://wadw.school/event/mr-vergadering/
END:VEVENT
BEGIN:VEVENT
DTSTART;TZID=Europe/Amsterdam:20230615T084500
DTEND;TZID=Europe/Amsterdam:20230615T101500
DTSTAMP:20260419T153303
CREATED:20230412T181449Z
LAST-MODIFIED:20230613T112733Z
UID:3575-1686818700-1686824100@wadw.school
SUMMARY:Open euritmie les - Kleuterklassen
DESCRIPTION:Alle ouders zijn welkom om in de klas te komen kijken tijdens de euritmie les: \nKlas a: 8:45 tot 9:15 \nKlas c: 9:15 tot 9:45 \nKlas b: 9:45 tot 10:15
URL:https://wadw.school/event/open-euritmie-les-kleuterklassen/
END:VEVENT
BEGIN:VEVENT
DTSTART;TZID=Europe/Amsterdam:20230630T000000
DTEND;TZID=Europe/Amsterdam:20230630T235959
DTSTAMP:20260419T153303
CREATED:20221103T122529Z
LAST-MODIFIED:20221205T190910Z
UID:3327-1688083200-1688169599@wadw.school
SUMMARY:Keti Koti viering
DESCRIPTION:
URL:https://wadw.school/event/keti-koti-viering/
CATEGORIES:Jaarfeest
END:VEVENT
END:VCALENDAR